BEGIN:VCALENDAR
VERSION:2.0
PRODID:-//wp-events-plugin.com//7.0.5//EN
BEGIN:VEVENT
UID:26@ashrae.gr
DTSTART:20170504T090000Z
DTEND:20170504T180000Z
DTSTAMP:20170505T170832Z
URL:https://www.ashrae.gr/REGISTRATION/events/1st-international-conference
 -energy-in-buildings-cyprus-2017
SUMMARY:1st International Conference "Energy in Buildings Cyprus"
DESCRIPTION:&nbsp\;\n\n\n\n[su_box title="1st International Conference 'Ene
 rgy in Buildings - Cyprus' " style="soft" box_color="#303175"]We welcome y
 ou to our 1st International Conference "Energy in Buildings - Cyprus" in
  Cyprus! It will take place at Atlantica Miramare Hotel\, Limassol on Thur
 sday\, May 4\, 2017. [/su_box]\n\n[su_note note_color="#c7ff66"]Download t
 he schedule by pressing the Download button.[/su_note][su_button url=" " 
 target="blank" style="glass"]Download[/su_button]
CATEGORIES:International Conferences
LOCATION:Atlantica Miramare Hotel\, 11 Amerikanas Str.\, Limassol\, Cyprus
GEO:34.69407;33.08860800000002
X-APPLE-STRUCTURED-LOCATION;VALUE=URI;X-ADDRESS=11 Amerikanas Str.\, Limass
 ol\, Cyprus;X-APPLE-RADIUS=100;X-TITLE=Atlantica Miramare Hotel:geo:34.694
 07,33.08860800000002
END:VEVENT
END:VCALENDAR