BEGIN:VCALENDAR
VERSION:2.0
PRODID:-//wp-events-plugin.com//7.0.5//EN
BEGIN:VEVENT
UID:50@ashrae.gr
DTSTART;TZID=Europe/Athens:20210120T180000
DTEND;TZID=Europe/Athens:20210120T204500
DTSTAMP:20210120T124052Z
URL:https://www.ashrae.gr/REGISTRATION/events/%cf%83%cf%87%ce%b5%ce%b4%ce%
 b9%ce%b1%cf%83%c2%b5%cf%8c%cf%82-%ce%ba%ce%b1%ce%b9-%e2%88%86%ce%b9%ce%b1%
 cf%83%cf%84%ce%b1%cf%83%ce%b9%ce%bf%ce%bb%cf%8c%ce%b3%ce%b7%cf%83-%ce%b1%c
 e%b5%cf%81%ce%b9%cf%83
SUMMARY:Σχεδιασµός και ∆ιαστασιολόγηση Αερ
 ισµού για το ΕΞΟΙΚΟΝΟΜΩ βάσει προτύπων AS
 HRAE 62.1 και 62.2
DESCRIPTION:[su_button url="https://attendee.gotowebinar.com/register/29831
 49181096549645" target="blank" style="glass" background="#0400e8" size="5"
  center="yes"]Register Here[/su_button]\n\nImportant notice: By selecting 
 "Register Here" you will be transfered to the Webinar Registration Page th
 at is NOT controlled and owned by the ASHRAE Hellenic Chapter. The Webinar
  tool is controlled and owned by the ASHRAE.org.
ATTACH;FMTTYPE=image/jpeg:https://www.ashrae.gr/REGISTRATION/wp-content/up
 loads/2021/01/website_w6_corrected.jpg
CATEGORIES:Webinar
END:VEVENT
BEGIN:VTIMEZONE
TZID:Europe/Athens
X-LIC-LOCATION:Europe/Athens
BEGIN:STANDARD
DTSTART:20201025T030000
TZOFFSETFROM:+0300
TZOFFSETTO:+0200
TZNAME:EET
END:STANDARD
END:VTIMEZONE
END:VCALENDAR